BEGIN:VCALENDAR
VERSION:2.0
PRODID:-//Gilman Village Merchants Association - ECPv6.15.20//NONSGML v1.0//EN
CALSCALE:GREGORIAN
METHOD:PUBLISH
X-ORIGINAL-URL:https://www.gilmanvillagemerchants.com
X-WR-CALDESC:Events for Gilman Village Merchants Association
REFRESH-INTERVAL;VALUE=DURATION:PT1H
X-Robots-Tag:noindex
X-PUBLISHED-TTL:PT1H
BEGIN:VTIMEZONE
TZID:UTC
BEGIN:STANDARD
TZOFFSETFROM:+0000
TZOFFSETTO:+0000
TZNAME:UTC
DTSTART:20180101T000000
END:STANDARD
END:VTIMEZONE
BEGIN:VEVENT
DTSTART;TZID=UTC:20251220T110000
DTEND;TZID=UTC:20251220T140000
DTSTAMP:20260423T090623
CREATED:20251120T185415Z
LAST-MODIFIED:20251120T190923Z
UID:8235-1766228400-1766239200@www.gilmanvillagemerchants.com
SUMMARY:Mr. and Mrs. Santa in Gilman Village December 20\, 2025 11AM-2PM
DESCRIPTION:
URL:https://www.gilmanvillagemerchants.com/event/mr-and-mrs-santa-in-gilman-village-december-20-2025-11am-2pm/
LOCATION:Gilman Village\, 317 NW Gilman Blvd\, Issaquah\, WA\, 98027\, United States
CATEGORIES:Family Event,Village Events
END:VEVENT
BEGIN:VEVENT
DTSTART;TZID=UTC:20251213T110000
DTEND;TZID=UTC:20251213T140000
DTSTAMP:20260423T090623
CREATED:20251120T183500Z
LAST-MODIFIED:20251120T183800Z
UID:8229-1765623600-1765634400@www.gilmanvillagemerchants.com
SUMMARY:Mr. and Mrs. Santa in Gilman Village December 13\, 2025 11AM-2PM
DESCRIPTION:
URL:https://www.gilmanvillagemerchants.com/event/mr-and-mrs-santa-in-the-village-december-13-2025-11am-2pm/
LOCATION:Gilman Village\, 317 NW Gilman Blvd\, Issaquah\, WA\, 98027\, United States
CATEGORIES:Family Event,Village Events
END:VEVENT
BEGIN:VEVENT
DTSTART;TZID=UTC:20231216T110000
DTEND;TZID=UTC:20231216T140000
DTSTAMP:20260423T090623
CREATED:20231114T052303Z
LAST-MODIFIED:20231114T052303Z
UID:6607-1702724400-1702735200@www.gilmanvillagemerchants.com
SUMMARY:Santa in the Village December 16\, 2023 11AM-2PM
DESCRIPTION:
URL:https://www.gilmanvillagemerchants.com/event/santa-in-the-village-december-16-2023-11am-2pm/
LOCATION:Gilman Village\, 317 NW Gilman Blvd\, Issaquah\, WA\, 98027\, United States
CATEGORIES:Family Event,Village Events
END:VEVENT
BEGIN:VEVENT
DTSTART;TZID=UTC:20231209T110000
DTEND;TZID=UTC:20231209T140000
DTSTAMP:20260423T090623
CREATED:20231114T051035Z
LAST-MODIFIED:20231114T051035Z
UID:6602-1702119600-1702130400@www.gilmanvillagemerchants.com
SUMMARY:Santa in the Village December 9\, 2023 11AM-2PM
DESCRIPTION:
URL:https://www.gilmanvillagemerchants.com/event/santa-in-the-village-december-9-2023-11am-2pm/
LOCATION:Gilman Village\, 317 NW Gilman Blvd\, Issaquah\, WA\, 98027\, United States
CATEGORIES:Family Event,Village Events
END:VEVENT
BEGIN:VEVENT
DTSTART;TZID=UTC:20231031T160000
DTEND;TZID=UTC:20231031T180000
DTSTAMP:20260423T090623
CREATED:20231014T081429Z
LAST-MODIFIED:20231014T082147Z
UID:6543-1698768000-1698775200@www.gilmanvillagemerchants.com
SUMMARY:Fun and Safe Halloween in Gilman Village
DESCRIPTION:
URL:https://www.gilmanvillagemerchants.com/event/fun-and-safe-halloween-in-gilman-village/
LOCATION:WA
CATEGORIES:Family Event,Village Events
END:VEVENT
BEGIN:VEVENT
DTSTART;TZID=UTC:20230408T100000
DTEND;TZID=UTC:20230408T120000
DTSTAMP:20260423T090623
CREATED:20230408T023623Z
LAST-MODIFIED:20230408T023623Z
UID:6478-1680948000-1680955200@www.gilmanvillagemerchants.com
SUMMARY:Gilman Village Easter Event
DESCRIPTION:Come to Gilman Village for our annual Easter event. Visit with Easter Bunny\, get your pictures taken. \nLots of activities for the kids and the family.
URL:https://www.gilmanvillagemerchants.com/event/gilman-village-easter-event/
LOCATION:Gilman Village\, 317 NW Gilman Blvd\, Issaquah\, WA\, 98027\, United States
CATEGORIES:Family Event,Village Events
END:VEVENT
BEGIN:VEVENT
DTSTART;TZID=UTC:20221210T120000
DTEND;TZID=UTC:20221210T140000
DTSTAMP:20260423T090623
CREATED:20221122T023723Z
LAST-MODIFIED:20221122T023723Z
UID:6466-1670673600-1670680800@www.gilmanvillagemerchants.com
SUMMARY:Santa in Gilman Village - December 17 \, 2022
DESCRIPTION:
URL:https://www.gilmanvillagemerchants.com/event/santa-in-gilman-village-december-17-2022/
LOCATION:Gilman Village\, 317 NW Gilman Blvd\, Issaquah\, WA\, 98027\, United States
CATEGORIES:Family Event,Village Events
END:VEVENT
BEGIN:VEVENT
DTSTART;TZID=UTC:20221210T100000
DTEND;TZID=UTC:20221210T120000
DTSTAMP:20260423T090623
CREATED:20221122T023444Z
LAST-MODIFIED:20221122T023620Z
UID:6462-1670666400-1670673600@www.gilmanvillagemerchants.com
SUMMARY:Santa in Gilman Village - December 10 \, 2022
DESCRIPTION:
URL:https://www.gilmanvillagemerchants.com/event/santa-in-gilman-village-december-10-17-2022/
LOCATION:Gilman Village\, 317 NW Gilman Blvd\, Issaquah\, WA\, 98027\, United States
CATEGORIES:Family Event,Village Events
END:VEVENT
BEGIN:VEVENT
DTSTART;TZID=UTC:20191214T110000
DTEND;TZID=UTC:20191214T150000
DTSTAMP:20260423T090623
CREATED:20191120T074017Z
LAST-MODIFIED:20191120T074045Z
UID:4349-1576321200-1576335600@www.gilmanvillagemerchants.com
SUMMARY:Santa in Gilman Village - December 14\, 2019
DESCRIPTION:
URL:https://www.gilmanvillagemerchants.com/event/santa-in-gilman-village-december-14-2019/
LOCATION:Gilman Village\, 317 NW Gilman Blvd\, Issaquah\, WA\, 98027\, United States
CATEGORIES:Family Event,Village Events
END:VEVENT
BEGIN:VEVENT
DTSTART;TZID=UTC:20191207T110000
DTEND;TZID=UTC:20191207T150000
DTSTAMP:20260423T090623
CREATED:20191120T073827Z
LAST-MODIFIED:20191120T073905Z
UID:4345-1575716400-1575730800@www.gilmanvillagemerchants.com
SUMMARY:Santa in Gilman Village - December 7\, 2019
DESCRIPTION:
URL:https://www.gilmanvillagemerchants.com/event/santa-in-gilman-village/
LOCATION:Gilman Village\, 317 NW Gilman Blvd\, Issaquah\, WA\, 98027\, United States
CATEGORIES:Family Event,Village Events
END:VEVENT
BEGIN:VEVENT
DTSTART;TZID=UTC:20190420T110000
DTEND;TZID=UTC:20190420T130000
DTSTAMP:20260423T090623
CREATED:20190409T043450Z
LAST-MODIFIED:20190409T065728Z
UID:958-1555758000-1555765200@www.gilmanvillagemerchants.com
SUMMARY:Village Easter Event
DESCRIPTION:Come to Gilman Village for our annual Easter event. Visit with Easter Bunny\, get your pictures taken. \nLots of activities for the kids and the family. \n 
URL:https://www.gilmanvillagemerchants.com/event/village-easter-event/
LOCATION:Gilman Village\, 317 NW Gilman Blvd\, Issaquah\, WA\, 98027\, United States
CATEGORIES:Family Event,Village Events
END:VEVENT
END:VCALENDAR